BEGIN:VCALENDAR
VERSION:2.0
PRODID:-//Mattie Kelly Arts Center - ECPv6.15.20//NONSGML v1.0//EN
CALSCALE:GREGORIAN
METHOD:PUBLISH
X-WR-CALNAME:Mattie Kelly Arts Center
X-ORIGINAL-URL:https://mattiekellyartscenter.org
X-WR-CALDESC:Events for Mattie Kelly Arts Center
REFRESH-INTERVAL;VALUE=DURATION:PT1H
X-Robots-Tag:noindex
X-PUBLISHED-TTL:PT1H
BEGIN:VTIMEZONE
TZID:America/Chicago
BEGIN:DAYLIGHT
TZOFFSETFROM:-0600
TZOFFSETTO:-0500
TZNAME:CDT
DTSTART:20220313T080000
END:DAYLIGHT
BEGIN:STANDARD
TZOFFSETFROM:-0500
TZOFFSETTO:-0600
TZNAME:CST
DTSTART:20221106T070000
END:STANDARD
BEGIN:DAYLIGHT
TZOFFSETFROM:-0600
TZOFFSETTO:-0500
TZNAME:CDT
DTSTART:20230312T080000
END:DAYLIGHT
BEGIN:STANDARD
TZOFFSETFROM:-0500
TZOFFSETTO:-0600
TZNAME:CST
DTSTART:20231105T070000
END:STANDARD
BEGIN:DAYLIGHT
TZOFFSETFROM:-0600
TZOFFSETTO:-0500
TZNAME:CDT
DTSTART:20240310T080000
END:DAYLIGHT
BEGIN:STANDARD
TZOFFSETFROM:-0500
TZOFFSETTO:-0600
TZNAME:CST
DTSTART:20241103T070000
END:STANDARD
END:VTIMEZONE
BEGIN:VEVENT
DTSTART;VALUE=DATE:20230213
DTEND;VALUE=DATE:20230214
DTSTAMP:20260419T114412
CREATED:20220726T152418Z
LAST-MODIFIED:20230120T174619Z
UID:5185-1676246400-1676332799@mattiekellyartscenter.org
SUMMARY:Junie B. Jones
DESCRIPTION:Now that Junie B. Jones has been going to school for\nover one-anda-half years\, who better to write the book\non EVERYTHING you need to know? From bus rules and\nBand-Aids to carpools to cookies\, Junie B. and friends\ndeliver the defi nitive word on surviving and thriving\nin style. With a jillion tips\, tricks\, and trip-ups\, Junie B.\nshares her hard-won expertise and shows us all how\nschool is sometimes scary\, sometimes super-fun\, and\nALWAYS something to sing about! \nFebruary 13\, 2023 9:45 & 11:30 \n*Tickets will be available 8/29/2022.
URL:https://mattiekellyartscenter.org/event/junie-b-jones/
LOCATION:Mattie Kelly Arts Center\, 100 College Blvd East\, Niceville\, FL\, 32578\, United States
CATEGORIES:Children's Shows
ATTACH;FMTTYPE=image/jpeg:https://mattiekellyartscenter.org/wp-content/uploads/2022/07/Junie-Bs-Essential-Survival-Guide-to-School-Key-Art-TWUSA-logo-scaled.jpg
END:VEVENT
END:VCALENDAR